BEGIN:VCALENDAR
VERSION:2.0
PRODID:-//Tous en scène St Siffret - ECPv6.15.20//NONSGML v1.0//EN
CALSCALE:GREGORIAN
METHOD:PUBLISH
X-ORIGINAL-URL:https://tousenscenestsiffret.com
X-WR-CALDESC:Évènements pour Tous en scène St Siffret
REFRESH-INTERVAL;VALUE=DURATION:PT1H
X-Robots-Tag:noindex
X-PUBLISHED-TTL:PT1H
BEGIN:VTIMEZONE
TZID:Europe/Paris
BEGIN:DAYLIGHT
TZOFFSETFROM:+0100
TZOFFSETTO:+0200
TZNAME:CEST
DTSTART:20230326T010000
END:DAYLIGHT
BEGIN:STANDARD
TZOFFSETFROM:+0200
TZOFFSETTO:+0100
TZNAME:CET
DTSTART:20231029T010000
END:STANDARD
BEGIN:DAYLIGHT
TZOFFSETFROM:+0100
TZOFFSETTO:+0200
TZNAME:CEST
DTSTART:20240331T010000
END:DAYLIGHT
BEGIN:STANDARD
TZOFFSETFROM:+0200
TZOFFSETTO:+0100
TZNAME:CET
DTSTART:20241027T010000
END:STANDARD
BEGIN:DAYLIGHT
TZOFFSETFROM:+0100
TZOFFSETTO:+0200
TZNAME:CEST
DTSTART:20250330T010000
END:DAYLIGHT
BEGIN:STANDARD
TZOFFSETFROM:+0200
TZOFFSETTO:+0100
TZNAME:CET
DTSTART:20251026T010000
END:STANDARD
BEGIN:DAYLIGHT
TZOFFSETFROM:+0100
TZOFFSETTO:+0200
TZNAME:CEST
DTSTART:20260329T010000
END:DAYLIGHT
BEGIN:STANDARD
TZOFFSETFROM:+0200
TZOFFSETTO:+0100
TZNAME:CET
DTSTART:20261025T010000
END:STANDARD
END:VTIMEZONE
BEGIN:VEVENT
DTSTART;TZID=Europe/Paris:20250827T133000
DTEND;TZID=Europe/Paris:20250827T150000
DTSTAMP:20260421T025308
CREATED:20250811T120740Z
LAST-MODIFIED:20250811T120740Z
UID:1434-1756301400-1756306800@tousenscenestsiffret.com
SUMMARY:Atelier dessin – Grandes vacances (2/2)
DESCRIPTION:Professeur : Patrice Biron Vannier\n« Illustrateur professionnel\, je vais vous apprendre à dessiner par vous-même\, afin de libérer votre imagination !\nProfesseur de dessin\, je donne des cours sur Uzès\, au collège St Firmin et à l’école Ste Anne\, notamment. »
URL:https://tousenscenestsiffret.com/agenda/atelier-dessin-grandes-vacances-2-2/
LOCATION:Salle La Péran\, Saint-Siffret\, 30700\, France
CATEGORIES:Dessin
ATTACH;FMTTYPE=image/jpeg:https://tousenscenestsiffret.com/wp-content/uploads/2025/08/ateliersStSiffret_2025-26_afficheA4-1.jpg
ORGANIZER;CN="Association Tous en Sc%C3%A8ne":MAILTO:tousenscenestsiffret@gmail.com
END:VEVENT
BEGIN:VEVENT
DTSTART;TZID=Europe/Paris:20250827T100000
DTEND;TZID=Europe/Paris:20250827T113000
DTSTAMP:20260421T025308
CREATED:20250811T120430Z
LAST-MODIFIED:20250811T120718Z
UID:1430-1756288800-1756294200@tousenscenestsiffret.com
SUMMARY:Atelier dessin – Grandes vacances (1/2)
DESCRIPTION:Professeur : Patrice Biron Vannier\n« Illustrateur professionnel\, je vais vous apprendre à dessiner par vous-même\, afin de libérer votre imagination !\nProfesseur de dessin\, je donne des cours sur Uzès\, au collège St Firmin et à l’école Ste Anne\, notamment. »
URL:https://tousenscenestsiffret.com/agenda/atelier-dessin-grandes-vacances/
LOCATION:Salle La Péran\, Saint-Siffret\, 30700\, France
CATEGORIES:Dessin
ATTACH;FMTTYPE=image/jpeg:https://tousenscenestsiffret.com/wp-content/uploads/2025/08/ateliersStSiffret_2025-26_afficheA4-1.jpg
ORGANIZER;CN="Association Tous en Sc%C3%A8ne":MAILTO:tousenscenestsiffret@gmail.com
END:VEVENT
BEGIN:VEVENT
DTSTART;TZID=Europe/Paris:20250531T170000
DTEND;TZID=Europe/Paris:20250531T170000
DTSTAMP:20260421T025308
CREATED:20250430T104618Z
LAST-MODIFIED:20250430T104647Z
UID:1361-1748710800-1748710800@tousenscenestsiffret.com
SUMMARY:Pièce de théâtre "Les Pieds Tanqués"
DESCRIPTION:Les associations « Tous En Scène » et « Entente Bouliste des Garrigues de l’Uzège » organisent leur fête annuelle le samedi 31 mai 2025. \nA cette occasion une pièce de théâtre sera présentée sur le boulodrome\, suivie d’une soirée musicale (repas & bal).
URL:https://tousenscenestsiffret.com/agenda/piece-de-theatre-les-pieds-tanques/
LOCATION:Boulodrome\, Chemin de Collias\, SAINT-SIFFRET\, 30700\, France
CATEGORIES:Théâtre
ATTACH;FMTTYPE=image/jpeg:https://tousenscenestsiffret.com/wp-content/uploads/2025/04/Affiche-du-31mai2025-redimensionner.jpg
ORGANIZER;CN="Association Tous en Sc%C3%A8ne":MAILTO:tousenscenestsiffret@gmail.com
END:VEVENT
BEGIN:VEVENT
DTSTART;TZID=Europe/Paris:20250524T200000
DTEND;TZID=Europe/Paris:20250524T220000
DTSTAMP:20260421T025308
CREATED:20250512T161902Z
LAST-MODIFIED:20250512T161902Z
UID:1379-1748116800-1748124000@tousenscenestsiffret.com
SUMMARY:BRASSENS en 21 CHANSONS
DESCRIPTION:Réservation par SMS au 06 40 84 00 26 (paroles des chansons distribuées)
URL:https://tousenscenestsiffret.com/agenda/brassens-en-21-chansons/
LOCATION:PARC LA PÉRAN
ATTACH;FMTTYPE=application/pdf:https://tousenscenestsiffret.com/wp-content/uploads/2025/05/AFFICHE-Brassens-1.pdf
ORGANIZER;CN="Association Tous en Sc%C3%A8ne":MAILTO:tousenscenestsiffret@gmail.com
END:VEVENT
BEGIN:VEVENT
DTSTART;TZID=Europe/Paris:20250423T100000
DTEND;TZID=Europe/Paris:20250423T113000
DTSTAMP:20260421T025308
CREATED:20250401T094406Z
LAST-MODIFIED:20250401T094406Z
UID:1341-1745402400-1745407800@tousenscenestsiffret.com
SUMMARY:Atelier dessin – vacances de Pâques (2e sem.) !
DESCRIPTION:Professeur : Patrice Biron Vannier\n« Illustrateur professionnel\, je vais vous apprendre à dessiner par vous-même\, afin de libérer votre imagination !\nProfesseur de dessin\, je donne des cours sur Uzès\, au collège St Firmin et à l’école Ste Anne\, notamment. »
URL:https://tousenscenestsiffret.com/agenda/atelier-dessin-vacances-de-paques-2e-sem/
LOCATION:Salle La Péran\, Saint-Siffret\, 30700\, France
CATEGORIES:Dessin
ATTACH;FMTTYPE=image/jpeg:https://tousenscenestsiffret.com/wp-content/uploads/2025/04/ateliersStSiffret_2025-avril_fb.jpg
ORGANIZER;CN="Association Tous en Sc%C3%A8ne":MAILTO:tousenscenestsiffret@gmail.com
END:VEVENT
BEGIN:VEVENT
DTSTART;TZID=Europe/Paris:20250416T100000
DTEND;TZID=Europe/Paris:20250416T113000
DTSTAMP:20260421T025308
CREATED:20250401T094309Z
LAST-MODIFIED:20250401T094341Z
UID:1336-1744797600-1744803000@tousenscenestsiffret.com
SUMMARY:Atelier dessin – vacances de Pâques (1ère sem.) !
DESCRIPTION:Professeur : Patrice Biron Vannier\n« Illustrateur professionnel\, je vais vous apprendre à dessiner par vous-même\, afin de libérer votre imagination !\nProfesseur de dessin\, je donne des cours sur Uzès\, au collège St Firmin et à l’école Ste Anne\, notamment. »
URL:https://tousenscenestsiffret.com/agenda/atelier-dessin-vacances-de-paques-1ere-sem/
LOCATION:Salle La Péran\, Saint-Siffret\, 30700\, France
CATEGORIES:Dessin
ATTACH;FMTTYPE=image/jpeg:https://tousenscenestsiffret.com/wp-content/uploads/2025/04/ateliersStSiffret_2025-avril_fb.jpg
ORGANIZER;CN="Association Tous en Sc%C3%A8ne":MAILTO:tousenscenestsiffret@gmail.com
END:VEVENT
BEGIN:VEVENT
DTSTART;TZID=Europe/Paris:20250405T180000
DTEND;TZID=Europe/Paris:20250405T230000
DTSTAMP:20260421T025308
CREATED:20250305T083006Z
LAST-MODIFIED:20250401T151737Z
UID:1255-1743876000-1743894000@tousenscenestsiffret.com
SUMMARY:Concert VIOLON/VIOLONCELLE ANNULÉ (blessure de la violoniste)
DESCRIPTION:Attention\, places limitées.
URL:https://tousenscenestsiffret.com/agenda/concert-violon-violoncelle/
LOCATION:Salle La Péran\, Saint-Siffret\, 30700\, France
CATEGORIES:Musique
ATTACH;FMTTYPE=image/jpeg:https://tousenscenestsiffret.com/wp-content/uploads/2025/03/Affiche-Concert-Violon-Violoncel-annule.jpg
ORGANIZER;CN="Association Tous en Sc%C3%A8ne":MAILTO:tousenscenestsiffret@gmail.com
END:VEVENT
BEGIN:VEVENT
DTSTART;TZID=Europe/Paris:20250402T100000
DTEND;TZID=Europe/Paris:20250402T120000
DTSTAMP:20260421T025308
CREATED:20250326T094852Z
LAST-MODIFIED:20250326T100149Z
UID:1318-1743588000-1743595200@tousenscenestsiffret.com
SUMMARY:Dédicace "Les Mystères de Saint-Siffret"
DESCRIPTION:Dédicace Les Mystères de Saint-Siffret !!! ***\nMercredi 2 avril – dédicace de 10h à 12h au Parc de la Péran à Saint-Siffret !!! \n—\nDE QUOI CA PARLE ?\n« Les Mystères de Saint-Siffret » est la suite de la bande dessinée « Les Mystères de Vers Pont du Gard ».\nVoici nos jeunes héros\, Hugo et Lize\, dans le paisible village de Saint-Siffret.\nIntrigués par des phénomènes étranges\, Hugo et Lize se retrouvent plongés dans une aventure palpitante\, où chaque recoin du village cache un secret. Au fil de leur quête\, ils feront des rencontres extraordinaires et découvriront des facettes cachées de ce village\, qui les conduiront bien plus loin qu’ils ne l’auraient imaginé.\nEntre énigmes à résoudre et alliés improbables\, cette aventure sera bien plus qu’une simple exploration : ce sera une véritable leçon de courage\, d’amitié et de dépassement de soi.
URL:https://tousenscenestsiffret.com/agenda/dedicace-de-la-bd-les-mysteres-de-saint-siffret/
LOCATION:Salle La Péran\, Saint-Siffret\, 30700\, France
ATTACH;FMTTYPE=image/jpeg:https://tousenscenestsiffret.com/wp-content/uploads/2025/03/affiche-dedicace-fb.jpg
END:VEVENT
BEGIN:VEVENT
DTSTART;TZID=Europe/Paris:20250330T150000
DTEND;TZID=Europe/Paris:20250330T170000
DTSTAMP:20260421T025308
CREATED:20250305T091343Z
LAST-MODIFIED:20250305T091755Z
UID:1264-1743346800-1743354000@tousenscenestsiffret.com
SUMMARY:Concert God’Spell Project
DESCRIPTION:Gratuit jusqu’à 6 ans\nTarif enfant (jusqu’à 12ans) : 5€\nTarif adulte : 10€
URL:https://tousenscenestsiffret.com/agenda/concert-godspell-project/
LOCATION:Espace W. Broche\, Route de Saint-Maximin\, Saint-Siffret\, 30700\, France
CATEGORIES:Musique
ATTACH;FMTTYPE=image/jpeg:https://tousenscenestsiffret.com/wp-content/uploads/2025/03/Affiche-du-Concert-avec-GodSpel.jpg
ORGANIZER;CN="Association Tous en Sc%C3%A8ne":MAILTO:tousenscenestsiffret@gmail.com
END:VEVENT
BEGIN:VEVENT
DTSTART;TZID=Europe/Paris:20250224T140000
DTEND;TZID=Europe/Paris:20250224T153000
DTSTAMP:20260421T025308
CREATED:20250305T093634Z
LAST-MODIFIED:20250305T093859Z
UID:1288-1740405600-1740411000@tousenscenestsiffret.com
SUMMARY:Atelier manga – vacances de Février (2e sem.) !
DESCRIPTION:Professeur : Patrice Biron Vannier\n« Illustrateur professionnel\, je vais vous apprendre à dessiner par vous-même\, afin de libérer votre imagination !\nProfesseur de dessin\, je donne des cours sur Uzès\, au collège St Firmin et à l’école Ste Anne\, notamment. »
URL:https://tousenscenestsiffret.com/agenda/atelier-dessin-vacances-de-fevrier-2e-sem/
LOCATION:Salle La Péran\, Saint-Siffret\, 30700\, France
CATEGORIES:Manga
ATTACH;FMTTYPE=image/jpeg:https://tousenscenestsiffret.com/wp-content/uploads/2025/01/ateliersStSiffret_2025-fev_afficheA4-scaled.jpg
ORGANIZER;CN="Association Tous en Sc%C3%A8ne":MAILTO:tousenscenestsiffret@gmail.com
END:VEVENT
BEGIN:VEVENT
DTSTART;TZID=Europe/Paris:20250224T100000
DTEND;TZID=Europe/Paris:20250224T113000
DTSTAMP:20260421T025308
CREATED:20250305T093545Z
LAST-MODIFIED:20250305T093930Z
UID:1286-1740391200-1740396600@tousenscenestsiffret.com
SUMMARY:Atelier dessin – vacances de Février (2e sem.) !
DESCRIPTION:Professeur : Patrice Biron Vannier\n« Illustrateur professionnel\, je vais vous apprendre à dessiner par vous-même\, afin de libérer votre imagination !\nProfesseur de dessin\, je donne des cours sur Uzès\, au collège St Firmin et à l’école Ste Anne\, notamment. »
URL:https://tousenscenestsiffret.com/agenda/atelier-dessin-vacances-de-fevrier-2e-sem-2/
LOCATION:Salle La Péran\, Saint-Siffret\, 30700\, France
CATEGORIES:Dessin
ATTACH;FMTTYPE=image/jpeg:https://tousenscenestsiffret.com/wp-content/uploads/2025/01/ateliersStSiffret_2025-fev_afficheA4-scaled.jpg
ORGANIZER;CN="Association Tous en Sc%C3%A8ne":MAILTO:tousenscenestsiffret@gmail.com
END:VEVENT
BEGIN:VEVENT
DTSTART;TZID=Europe/Paris:20250222T193000
DTEND;TZID=Europe/Paris:20250222T230000
DTSTAMP:20260421T025308
CREATED:20250305T092035Z
LAST-MODIFIED:20250305T092427Z
UID:1270-1740252600-1740265200@tousenscenestsiffret.com
SUMMARY:Soirée musicale
DESCRIPTION:Adultes : 18€\nEnfants : 10€
URL:https://tousenscenestsiffret.com/agenda/soiree-musicale/
LOCATION:Espace W. Broche\, Route de Saint-Maximin\, Saint-Siffret\, 30700\, France
CATEGORIES:Musique
ATTACH;FMTTYPE=image/png:https://tousenscenestsiffret.com/wp-content/uploads/2025/01/Affiche-soiree-musicale-du-22-02-1.png
ORGANIZER;CN="Association Tous en Sc%C3%A8ne":MAILTO:tousenscenestsiffret@gmail.com
END:VEVENT
BEGIN:VEVENT
DTSTART;TZID=Europe/Paris:20250218T140000
DTEND;TZID=Europe/Paris:20250218T153000
DTSTAMP:20260421T025308
CREATED:20250305T093510Z
LAST-MODIFIED:20250305T093737Z
UID:1284-1739887200-1739892600@tousenscenestsiffret.com
SUMMARY:Atelier manga – vacances de Février !
DESCRIPTION:Professeur : Patrice Biron Vannier\n« Illustrateur professionnel\, je vais vous apprendre à dessiner par vous-même\, afin de libérer votre imagination !\nProfesseur de dessin\, je donne des cours sur Uzès\, au collège St Firmin et à l’école Ste Anne\, notamment. »
URL:https://tousenscenestsiffret.com/agenda/atelier-manga-vacances-de-fevrier/
LOCATION:Salle La Péran\, Saint-Siffret\, 30700\, France
CATEGORIES:Manga
ATTACH;FMTTYPE=image/jpeg:https://tousenscenestsiffret.com/wp-content/uploads/2025/01/ateliersStSiffret_2025-fev_afficheA4-scaled.jpg
ORGANIZER;CN="Association Tous en Sc%C3%A8ne":MAILTO:tousenscenestsiffret@gmail.com
END:VEVENT
BEGIN:VEVENT
DTSTART;TZID=Europe/Paris:20250218T100000
DTEND;TZID=Europe/Paris:20250218T113000
DTSTAMP:20260421T025308
CREATED:20250305T093338Z
LAST-MODIFIED:20250305T093726Z
UID:1282-1739872800-1739878200@tousenscenestsiffret.com
SUMMARY:Atelier dessin – vacances de Février !
DESCRIPTION:Professeur : Patrice Biron Vannier\n« Illustrateur professionnel\, je vais vous apprendre à dessiner par vous-même\, afin de libérer votre imagination !\nProfesseur de dessin\, je donne des cours sur Uzès\, au collège St Firmin et à l’école Ste Anne\, notamment. »
URL:https://tousenscenestsiffret.com/agenda/atelier-dessin-vacances-de-fevrier/
LOCATION:Salle La Péran\, Saint-Siffret\, 30700\, France
CATEGORIES:Dessin
ATTACH;FMTTYPE=image/jpeg:https://tousenscenestsiffret.com/wp-content/uploads/2025/01/ateliersStSiffret_2025-fev_afficheA4-scaled.jpg
ORGANIZER;CN="Association Tous en Sc%C3%A8ne":MAILTO:tousenscenestsiffret@gmail.com
END:VEVENT
BEGIN:VEVENT
DTSTART;TZID=Europe/Paris:20250131T193000
DTEND;TZID=Europe/Paris:20250131T230000
DTSTAMP:20260421T025308
CREATED:20250305T092324Z
LAST-MODIFIED:20250305T092331Z
UID:1272-1738351800-1738364400@tousenscenestsiffret.com
SUMMARY:Boeuf musical janvier
DESCRIPTION:
URL:https://tousenscenestsiffret.com/agenda/boeuf-musical-janvier/
LOCATION:Salle La Péran\, Saint-Siffret\, 30700\, France
CATEGORIES:Musique
ATTACH;FMTTYPE=image/png:https://tousenscenestsiffret.com/wp-content/uploads/2025/01/Boeuf-musical-janvier.png
ORGANIZER;CN="Association Tous en Sc%C3%A8ne":MAILTO:tousenscenestsiffret@gmail.com
END:VEVENT
BEGIN:VEVENT
DTSTART;TZID=Europe/Paris:20250103T140000
DTEND;TZID=Europe/Paris:20250103T153000
DTSTAMP:20260421T025308
CREATED:20250305T094353Z
LAST-MODIFIED:20250305T094353Z
UID:1305-1735912800-1735918200@tousenscenestsiffret.com
SUMMARY:Ateliers manga – vacances de Noël (3) !
DESCRIPTION:Professeur : Patrice Biron Vannier\n« Illustrateur professionnel\, je vais vous apprendre à dessiner par vous-même\, afin de libérer votre imagination !\nProfesseur de dessin\, je donne des cours sur Uzès\, au collège St Firmin et à l’école Ste Anne\, notamment. »
URL:https://tousenscenestsiffret.com/agenda/ateliers-manga-vacances-de-noel-3/
LOCATION:Salle La Péran\, Saint-Siffret\, 30700\, France
CATEGORIES:Manga
ATTACH;FMTTYPE=image/jpeg:https://tousenscenestsiffret.com/wp-content/uploads/2024/11/ateliersStSiffret_2024-25_afficheA4.jpg
ORGANIZER;CN="Association Tous en Sc%C3%A8ne":MAILTO:tousenscenestsiffret@gmail.com
END:VEVENT
BEGIN:VEVENT
DTSTART;TZID=Europe/Paris:20250103T100000
DTEND;TZID=Europe/Paris:20250103T113000
DTSTAMP:20260421T025308
CREATED:20250305T094319Z
LAST-MODIFIED:20250305T094319Z
UID:1303-1735898400-1735903800@tousenscenestsiffret.com
SUMMARY:Ateliers dessin – vacances de Noël (3) !
DESCRIPTION:Professeur : Patrice Biron Vannier\n« Illustrateur professionnel\, je vais vous apprendre à dessiner par vous-même\, afin de libérer votre imagination !\nProfesseur de dessin\, je donne des cours sur Uzès\, au collège St Firmin et à l’école Ste Anne\, notamment. »
URL:https://tousenscenestsiffret.com/agenda/ateliers-dessin-vacances-de-noel-3/
LOCATION:Salle La Péran\, Saint-Siffret\, 30700\, France
CATEGORIES:Dessin
ATTACH;FMTTYPE=image/jpeg:https://tousenscenestsiffret.com/wp-content/uploads/2024/11/ateliersStSiffret_2024-25_afficheA4.jpg
ORGANIZER;CN="Association Tous en Sc%C3%A8ne":MAILTO:tousenscenestsiffret@gmail.com
END:VEVENT
BEGIN:VEVENT
DTSTART;TZID=Europe/Paris:20241227T140000
DTEND;TZID=Europe/Paris:20241227T153000
DTSTAMP:20260421T025308
CREATED:20250305T094246Z
LAST-MODIFIED:20250305T094246Z
UID:1301-1735308000-1735313400@tousenscenestsiffret.com
SUMMARY:Ateliers manga – vacances de Noël (2) !
DESCRIPTION:Professeur : Patrice Biron Vannier\n« Illustrateur professionnel\, je vais vous apprendre à dessiner par vous-même\, afin de libérer votre imagination !\nProfesseur de dessin\, je donne des cours sur Uzès\, au collège St Firmin et à l’école Ste Anne\, notamment. »
URL:https://tousenscenestsiffret.com/agenda/ateliers-manga-vacances-de-noel-2/
LOCATION:Salle La Péran\, Saint-Siffret\, 30700\, France
CATEGORIES:Manga
ATTACH;FMTTYPE=image/jpeg:https://tousenscenestsiffret.com/wp-content/uploads/2024/11/ateliersStSiffret_2024-25_afficheA4.jpg
ORGANIZER;CN="Association Tous en Sc%C3%A8ne":MAILTO:tousenscenestsiffret@gmail.com
END:VEVENT
BEGIN:VEVENT
DTSTART;TZID=Europe/Paris:20241227T100000
DTEND;TZID=Europe/Paris:20241227T113000
DTSTAMP:20260421T025308
CREATED:20250305T094208Z
LAST-MODIFIED:20250305T094208Z
UID:1299-1735293600-1735299000@tousenscenestsiffret.com
SUMMARY:Ateliers dessin – vacances de Noël (2) !
DESCRIPTION:Professeur : Patrice Biron Vannier\n« Illustrateur professionnel\, je vais vous apprendre à dessiner par vous-même\, afin de libérer votre imagination !\nProfesseur de dessin\, je donne des cours sur Uzès\, au collège St Firmin et à l’école Ste Anne\, notamment. »
URL:https://tousenscenestsiffret.com/agenda/ateliers-dessin-vacances-de-noel-2/
LOCATION:Salle La Péran\, Saint-Siffret\, 30700\, France
CATEGORIES:Dessin
ATTACH;FMTTYPE=image/jpeg:https://tousenscenestsiffret.com/wp-content/uploads/2024/11/ateliersStSiffret_2024-25_afficheA4.jpg
ORGANIZER;CN="Association Tous en Sc%C3%A8ne":MAILTO:tousenscenestsiffret@gmail.com
END:VEVENT
BEGIN:VEVENT
DTSTART;TZID=Europe/Paris:20241223T140000
DTEND;TZID=Europe/Paris:20241223T153000
DTSTAMP:20260421T025308
CREATED:20250305T094126Z
LAST-MODIFIED:20250305T094126Z
UID:1297-1734962400-1734967800@tousenscenestsiffret.com
SUMMARY:Ateliers manga – vacances de Noël !
DESCRIPTION:Professeur : Patrice Biron Vannier\n« Illustrateur professionnel\, je vais vous apprendre à dessiner par vous-même\, afin de libérer votre imagination !\nProfesseur de dessin\, je donne des cours sur Uzès\, au collège St Firmin et à l’école Ste Anne\, notamment. »
URL:https://tousenscenestsiffret.com/agenda/ateliers-manga-vacances-de-noel/
LOCATION:Salle La Péran\, Saint-Siffret\, 30700\, France
CATEGORIES:Manga
ATTACH;FMTTYPE=image/jpeg:https://tousenscenestsiffret.com/wp-content/uploads/2024/11/ateliersStSiffret_2024-25_afficheA4.jpg
ORGANIZER;CN="Association Tous en Sc%C3%A8ne":MAILTO:tousenscenestsiffret@gmail.com
END:VEVENT
BEGIN:VEVENT
DTSTART;TZID=Europe/Paris:20241223T100000
DTEND;TZID=Europe/Paris:20241223T113000
DTSTAMP:20260421T025308
CREATED:20250305T094046Z
LAST-MODIFIED:20250305T094046Z
UID:1295-1734948000-1734953400@tousenscenestsiffret.com
SUMMARY:Ateliers dessin – vacances de Noël !
DESCRIPTION:Professeur : Patrice Biron Vannier\n« Illustrateur professionnel\, je vais vous apprendre à dessiner par vous-même\, afin de libérer votre imagination !\nProfesseur de dessin\, je donne des cours sur Uzès\, au collège St Firmin et à l’école Ste Anne\, notamment. »
URL:https://tousenscenestsiffret.com/agenda/ateliers-dessin-vacances-de-noel/
LOCATION:Salle La Péran\, Saint-Siffret\, 30700\, France
CATEGORIES:Dessin
ATTACH;FMTTYPE=image/jpeg:https://tousenscenestsiffret.com/wp-content/uploads/2024/11/ateliersStSiffret_2024-25_afficheA4.jpg
ORGANIZER;CN="Association Tous en Sc%C3%A8ne":MAILTO:tousenscenestsiffret@gmail.com
END:VEVENT
BEGIN:VEVENT
DTSTART;TZID=Europe/Paris:20241215T110000
DTEND;TZID=Europe/Paris:20241215T150000
DTSTAMP:20260421T025308
CREATED:20250305T092731Z
LAST-MODIFIED:20250305T092909Z
UID:1276-1734260400-1734274800@tousenscenestsiffret.com
SUMMARY:Concert de Noël
DESCRIPTION:
URL:https://tousenscenestsiffret.com/agenda/concert-de-noel/
LOCATION:Espace Briargues\, Imp. des Lauriers Roses\, Saint-Siffret\, 30700\, France
CATEGORIES:Musique
ATTACH;FMTTYPE=image/jpeg:https://tousenscenestsiffret.com/wp-content/uploads/2024/10/Affiche-Concert-de-Noel-2024.jpg
ORGANIZER;CN="Association Tous en Sc%C3%A8ne":MAILTO:tousenscenestsiffret@gmail.com
END:VEVENT
BEGIN:VEVENT
DTSTART;TZID=Europe/Paris:20241129T190000
DTEND;TZID=Europe/Paris:20241129T230000
DTSTAMP:20260421T025308
CREATED:20250305T092617Z
LAST-MODIFIED:20250305T092617Z
UID:1274-1732906800-1732921200@tousenscenestsiffret.com
SUMMARY:Boeuf musical novembre
DESCRIPTION:
URL:https://tousenscenestsiffret.com/agenda/boeuf-musical-novembre/
LOCATION:Salle La Péran\, Saint-Siffret\, 30700\, France
CATEGORIES:Musique
ATTACH;FMTTYPE=image/jpeg:https://tousenscenestsiffret.com/wp-content/uploads/2024/11/Affiche-boeuf-musical-novembre-1-pdf-724x1024-1.jpg
ORGANIZER;CN="Association Tous en Sc%C3%A8ne":MAILTO:tousenscenestsiffret@gmail.com
END:VEVENT
BEGIN:VEVENT
DTSTART;TZID=Europe/Paris:20241025T190000
DTEND;TZID=Europe/Paris:20241025T230000
DTSTAMP:20260421T025308
CREATED:20250305T093032Z
LAST-MODIFIED:20250305T093032Z
UID:1280-1729882800-1729897200@tousenscenestsiffret.com
SUMMARY:Boeuf musical octobre
DESCRIPTION:
URL:https://tousenscenestsiffret.com/agenda/boeuf-musical-octobre/
LOCATION:Salle La Péran\, Saint-Siffret\, 30700\, France
ATTACH;FMTTYPE=image/jpeg:https://tousenscenestsiffret.com/wp-content/uploads/2024/10/affiche-Boeuf-musical_0001_page-0001.jpg
ORGANIZER;CN="Association Tous en Sc%C3%A8ne":MAILTO:tousenscenestsiffret@gmail.com
END:VEVENT
END:VCALENDAR